Workbook

Sheet Instructiuni
A1: Instructiuni de completare:
B3: Datele se introduc numai in celulele marcate cu gri; datele se introduc in LEI.
B4: Restul datelor sunt fie predefinite, fie generate automat. A nu se modifica formulele de calcul - acestea sunt calculate automat in urma introducerii datelor de intrare
B5: Au fost prevazute formule de verificare a unor corelatii. Daca corelatia se verifica, mesajul este "OK", iar in situatia in care formula identifica o necorelare, mesajul este ”ERROR”.
B7: Foaia de lucru Buget-cerere
B8: Au fost prevazute formule de verificare a pragurilor maxim eligibile. Daca pragul maxim acceptat este depășit, mesajul este "Atenție prag!"
B9: Coloanele J si K contin informatii cu privire la corelarea cheltuielilor in sectiune Buget-Activitati si cheltuieli din cererea de finantare.
B10: Active corporale necesare în fazele de dezvoltare/testare/pilotare a soluției digitale, în limita a 10% din totalul cheltuielilor eligibile
B12: Curs INFOREURO | C12: 1 EUR = | D12: 4.9764 | E12: RON
B13: https://commission.europa.eu/funding-tenders/procedures-guidelines-tenders/information-contractors-and-beneficiaries/exchange-rate-inforeuro_ro
B15: Foaia de lucru Buget Categorii Cheltuieli | D15: se completează automat.
B18: Foaia de lucru Export Smis (NU SE TRANSFORMA IN PDF, NU SE ANEXEAZA!!!)
B19: Foaia de lucru: Export Smis se exportă din SMIS după completarea secțiunii Buget Activități si cheltuieli din cererea de finantare. Din secțiunea Buget-Activități si cheltuieli se apasă butonul verde EXPORT HL.SX.După deschiderea excelului, se aseaza cursorul in coltul din stanga selectand foaia de lucru. Se copiaza si se Lipeste (PASTE) in foaia de lucru Export SMIS
B21: Foaia de lucru Buget Sintetic este completată automat.

Sheet Buget_cerere
A1: BUGETUL CERERII DE FINANTARE
A3: Nr. crt | B3: Denumirea capitolelor şi subcapitolelor | C3: Cheltuieli eligibile | E3: Total eligibil | F3: Cheltuieli neeligibile | H3: Total neeligibil | I3: TOTAL
C4: Cheltuieli eligibile, fără TVA | D4: TVA nerecuperabilă,aferentă cheltuielilor eligibile | F4: Cheltuieli neeligibile, fără TVA | G4: TVA aferentă cheltuielilor neeligibile, și TVA recuperabilă aferentă cheltuielilor eligibile | J4: Categorie MySmis | K4: Subcategorie MySmis
A5: CAP. 1 | B5: CAPITOLUL 1 Cheltuieli pentru dezvoltarea soluției propuse/de îmbunătățire a soluției existente
A6: 1.1. | B6: Serviciilor de dezvoltare a soluției propuse/de îmbunătățire a soluției existente | C6: 1899744 | D6: 398946.24 | E6: =C6+D6 -> 2298690.2 | F6: 0 | G6: 0 | H6: =F6+G6 -> 0 | I6: =E6+H6 -> 2298690.2 | J6: SERVICII | K6: Cheltuieli cu servicii IT, de dezvoltare/ actualizare aplicații, configurare baze de date, migrare structuri de date etc
A7: 1.2. | B7: Active corporale necesare în fazele de dezvoltare/testare/pilotare a soluției digitale ( în limita a 10% din totalul cheltuielilor eligibile) | C7: 0 | D7: 0 | E7: =C7+D7 -> 0 | F7: 0 | G7: 0 | H7: =F7+G7 -> 0 | I7: =E7+H7 -> 0 | J7: ECHIPAMENTE / DOTARI / ACTIVE CORPORALE | K7: Cheltuieli cu achizitia de active fixe corporale (altele decat terenuri si imobile), obiecte de inventar, materiale consumabile | L7: =IF(E7>E28*10%,"!!! Atentie prag","")
A8: 1.3. | B8: Active necorporale (drepturi referitoare la brevete, licențe, know-how, etc.); | C8: 0 | D8: 0 | E8: =C8+D81 -> 0 | F8: 0 | G8: 0 | H8: =F8+G8 -> 0 | I8: =E8+H8 -> 0 | J8: CHELTUIELI CU ACTIVE NECORPORALE | K8: Cheltuieli pentru achiziția de active necorporale din surse externe în condiții de concurență deplină pentru activități de inovare
B9: TOTAL CAPITOL 1 | C9: =SUM(C6:C8) -> 1899744 | D9: =SUM(D6:D8) -> 398946.24 | E9: =SUM(E6:E8) -> 2298690.2 | F9: =SUM(F6:F8) -> 0 | G9: =SUM(G6:G8) -> 0 | H9: =SUM(H6:H8) -> 0 | I9: =SUM(I6:I8) -> 2298690.2
A10: CAP. 2 | B10: CAPITOLUL 2 Cheltuieli de instruire pentru persoanele care se vor ocupa de serviciul electronic nou dezvoltat
A11: 2.1. | B11: Cheltuieli de instruire pentru persoanele care se vor ocupa de serviciul electronic nou dezvoltat (in limita a maxim 5% din totalul cheltuielilor eligibile, fără să depășească pragul valoric de 10.000 euro.) | C11: 5000 | D11: 1050 | E11: =C11+D11 -> 6050 | F11: 0 | G11: 0 | H11: =F11+G11 -> 0 | I11: =E11+H11 -> 6050 | J11: CHELTUIELI CU SERVICII | K11: Cheltuieli pentru instruire specifică pentru operarea / administrarea de aplicații software | L11: =IF(E11>E28*5%,"!!! Atentie prag 5%","") | M11: =IF(E11>10000*Instructiuni!D12,"!!! Atentie prag 10000 euro","")
B12: TOTAL CAPITOL 2 | C12: =C11 -> 5000 | D12: =D11 -> 1050 | E12: =E11 -> 6050 | F12: =F11 -> 0 | G12: =G11 -> 0 | H12: =H11 -> 0 | I12: =I11 -> 6050
A13: CAP. 3 | B13: CAPITOLUL 3. Cheltuielile de consultanță
A14: 3.1. | B14: Servicii de consultanță la elaborarea cererii de finanțare și a tuturor studiilor necesare întocmirii acesteia | C14: 90000 | D14: 18900 | E14: =C14+D14 -> 108900 | F14: 45000 | G14: 9450 | H14: =F14+G14 -> 54450 | I14: =E14+H14 -> 163350 | J14: CHELTUIELI SUB FORMA DE RATE FORFETARE | K14: Cheltuieli indirecte conform art. 54 lit.a RDC 1060/2021
A15: 3.2. | B15: Servicii de consultanță în domeniul managementului proiectului | C15: 0 | D15: 0 | E15: =C15+D15 -> 0 | F15: 0 | G15: 0 | H15: =F15+G15 -> 0 | I15: =E15+H15 -> 0 | J15: CHELTUIELI SUB FORMA DE RATE FORFETARE | K15: Cheltuieli indirecte conform art. 54 lit.a RDC 1060/2022
A16: 3.3. | B16: Servicii de consultanță/asistență juridică în scopul elaborării documentației de atribuire și/sau aplicării procedurilor de atribuire a contractelor de achiziție publică, dacă este cazul. | C16: 0 | D16: 0 | E16: =C16+D16 -> 0 | F16: 0 | G16: 0 | H16: =F16+G16 -> 0 | I16: =E16+H16 -> 0 | J16: CHELTUIELI SUB FORMA DE RATE FORFETARE | K16: Cheltuieli indirecte conform art. 54 lit.a RDC 1060/2023
A17: 3.4. | B17: Alte cheltuieli de consultanță tehnică specifică tehnologiei informației și comunicațiilor din proiect | C17: 0 | D17: 0 | E17: =C17+D17 -> 0 | F17: 0 | G17: 0 | H17: =F17+G17 -> 0 | I17: =E17+H17 -> 0 | J17: CHELTUIELI SUB FORMA DE RATE FORFETARE | K17: Cheltuieli indirecte conform art. 54 lit.a RDC 1060/2024
B18: TOTAL CAPITOL 3 | C18: =SUM(C14:C17) -> 90000 | D18: =SUM(D14:D17) -> 18900 | E18: =SUM(E14:E17) -> 108900 | F18: =SUM(F14:F17) -> 45000 | G18: =SUM(G14:G17) -> 9450 | H18: =SUM(H14:H17) -> 54450 | I18: =SUM(I14:I17) -> 163350
A19: CAP. 4 | B19: CAPITOLUL 4. Cheltuielile de informare și publicitate
A20: 4.1. | B20: Cheltuieli cu activitățile obligatorii de informare și publicitate | C20: 4987.2 | D20: 1047.31 | E20: =C20+D20 -> 6034.51 | F20: 12.8 | G20: 2.69 | H20: =F20+G20 -> 15.49 | I20: =E20+H20 -> 6050 | J20: CHELTUIELI SUB FORMA DE RATE FORFETARE | K20: Cheltuieli indirecte conform art. 54 lit.a RDC 1060/2024
B21: TOTAL CAPITOL 4 | C21: =SUM(C20:C20) -> 4987.2 | D21: =SUM(D20:D20) -> 1047.31 | E21: =SUM(E20:E20) -> 6034.51 | F21: =SUM(F20:F20) -> 12.8 | G21: =SUM(G20:G20) -> 2.69 | H21: =SUM(H20:H20) -> 15.49 | I21: =SUM(I20:I20) -> 6050
A22: CAP.5 | B22: CAPITOLUL 5. Cheltuielile cu activitatea de audit financiar extern
A23: 5.1. | B23: Cheltuielile cu activitatea de audit financiar extern | C23: 0 | D23: 0 | E23: =C23+D23 -> 0 | F23: 20000 | G23: 4200 | H23: =F23+G23 -> 24200 | I23: =E23+H23 -> 24200 | J23: CHELTUIELI SUB FORMA DE RATE FORFETARE | K23: Cheltuieli indirecte conform art. 54 lit.a RDC 1060/2024
B24: TOTAL CAPITOL 5 | C24: =C23 -> 0 | D24: =D23 -> 0 | E24: =E23 -> 0 | F24: =F23 -> 20000 | G24: =G23 -> 4200 | H24: =H23 -> 24200 | I24: =I23 -> 24200
A25: CAP.6 | B25: CAPITOLUL 6 Cheltuielile de cooperare teritorială
A26: 6.1. | B26: Cheltuielile de cooperare teritorială (in limita a maxim 5% din totalul cheltuielilor eligibile, fără să depășească pragul valoric de 15.000 euro) | C26: 40000 | D26: 8400 | E26: =C26+D26 -> 48400 | F26: 10000 | G26: 2100 | H26: =F26+G26 -> 12100 | I26: =E26+H26 -> 60500 | J26: SERVICII | K26: Cheltuieli cu activitati de cooperare | L26: =IF(E26>C34*5%,"!!! Atentie prag 5%","") | M26: =IF(E26>15000*Instructiuni!D12,"!!! Atentie prag 15000 euro","")
B27: TOTAL CAPITOL 6 | C27: =C26 -> 40000 | D27: =D26 -> 8400 | E27: =E26 -> 48400 | F27: =F26 -> 10000 | G27: =G26 -> 2100 | H27: =H26 -> 12100 | I27: =I26 -> 60500
B28: TOTAL BUGET PROIECT | C28: =C9+C12+C18+C21+C24+C27 -> 2039731.2 | D28: =D9+D12+D18+D21+D24+D27 -> 428343.55 | E28: =E9+E12+E18+E21+E24+E27 -> 2468074.8 | F28: =F9+F12+F18+F21+F24+F27 -> 75012.8 | G28: =G9+G12+G18+G21+G24+G27 -> 15752.69 | H28: =H9+H12+H18+H21+H24+H27 -> 90765.49 | I28: =I9+I12+I18+I21+I24+I27 -> 2558840.2
B29: Cheltuieli indirecte conform art. 54 lit.a RDC 1060/2021 | C29: =C24+C21+C18 -> 94987.2 | D29: =D24+D21+D18 -> 19947.31 | E29: =E24+E21+E18 -> 114934.51 | F29: =F24+F21+F18 -> 65012.8 | G29: =G24+G21+G18 -> 13652.69 | H29: =H24+H21+H18 -> 78665.49 | I29: =I24+I21+I18 -> 193600 | J29: =IF(E29>E9*5%,"!!! Atentie prag","")
A31: Nr crt | B31: SURSE DE FINANŢARE | C31: Valoare (lei)
A32: I | B32: Valoarea totală a cererii de finantare, din care : | C32: =I28 -> 2558840.2
A33: I.a. | B33: Valoarea totala neeligibilă, inclusiv TVA aferenta | C33: =H28 -> 90765.49 | D33: =IF(C34<15000*Instructiuni!D12,"!!!Atentie valoarea minima eligibilă ","")
A34: I.b. | B34: Valoarea totala eligibilă | C34: =E28 -> 2468074.8 | D34: =IF(C34>500000*Instructiuni!D12,"!!! Valoarea maximă eligibilă depăseste pragul maxim acceptat","")
A35: II | B35: Contribuţia proprie, din care : | C35: =SUM(C36:C37) -> 140126.99
A36: II.a. | B36: Contribuţia solicitantului la cheltuieli eligibile | C36: =ROUND(C34*2%,2) -> 49361.5 | D36: =IF(C36<C34*2%,"!!! Contribuția la cheltuielile eligibile nu este de minimum 2%","")
A37: II.c. | B37: Contribuţia solicitantului la cheltuieli neeligibile, inclusiv TVA aferenta | C37: =H28 -> 90765.49
A38: III | B38: ASISTENŢĂ FINANCIARĂ NERAMBURSABILĂ SOLICITATĂ | C38: =C32-C35 -> 2418713.2

Sheet Buget Categorii Cheltuieli
A1: CATEGORIE | B1: SUBCATEGORIE | C1: Cheltuieli eligibile | E1: Total eligibil | F1: Cheltuieli neeligibile | H1: Total neeligibil | I1: TOTAL
C2: Cheltuieli eligibile, fără TVA | D2: TVA nerecuperabilă,aferentă cheltuielilor eligibile | F2: Cheltuieli neeligibile, fără TVA | G2: TVA aferentă cheltuielilor neeligibile, și TVA recuperabilă aferentă cheltuielilor eligibile
A4: =Buget_cerere!J6 -> SERVICII | B4: =Buget_cerere!K6 -> Cheltuieli cu servicii IT, de dezvoltare/ actualizare aplicații, configurare baze de date, migrare structuri de date etc | C4: =Buget_cerere!C6 -> 1899744 | D4: =Buget_cerere!D6 -> 398946.24 | E4: =Buget_cerere!E6 -> 2298690.2 | F4: =Buget_cerere!F6 -> 0 | G4: =Buget_cerere!G6 -> 0 | H4: =Buget_cerere!H6 -> 0 | I4: =Buget_cerere!I6 -> 2298690.2
A5: =Buget_cerere!J7 -> ECHIPAMENTE / DOTARI / ACTIVE CORPORALE | B5: =Buget_cerere!K7 -> Cheltuieli cu achizitia de active fixe corporale (altele decat terenuri si imobile), obiecte de inventar, materiale consumabile | C5: =Buget_cerere!C7 -> 0 | D5: =Buget_cerere!D7 -> 0 | E5: =Buget_cerere!E7 -> 0 | F5: =Buget_cerere!F7 -> 0 | G5: =Buget_cerere!G7 -> 0 | H5: =Buget_cerere!H7 -> 0 | I5: =Buget_cerere!I7 -> 0
A6: =Buget_cerere!J8 -> CHELTUIELI CU ACTIVE NECORPORALE | B6: =Buget_cerere!K8 -> Cheltuieli pentru achiziția de active necorporale din surse externe în condiții de concurență deplină pentru activități de inovare | C6: =Buget_cerere!C8 -> 0 | D6: =Buget_cerere!D8 -> 0 | E6: =Buget_cerere!E8 -> 0 | F6: =Buget_cerere!F8 -> 0 | G6: =Buget_cerere!G8 -> 0 | H6: =Buget_cerere!H8 -> 0 | I6: =Buget_cerere!I8 -> 0
A7: =Buget_cerere!J11 -> CHELTUIELI CU SERVICII | B7: =Buget_cerere!K11 -> Cheltuieli pentru instruire specifică pentru operarea / administrarea de aplicații software | C7: =Buget_cerere!C11 -> 5000 | D7: =Buget_cerere!D11 -> 1050 | E7: =Buget_cerere!E11 -> 6050 | F7: =Buget_cerere!F11 -> 0 | G7: =Buget_cerere!G11 -> 0 | H7: =Buget_cerere!H11 -> 0 | I7: =Buget_cerere!I11 -> 6050
A8: =Buget_cerere!J26 -> SERVICII | B8: =Buget_cerere!K26 -> Cheltuieli cu activitati de cooperare | C8: =Buget_cerere!C26 -> 40000 | D8: =Buget_cerere!D26 -> 8400 | E8: =Buget_cerere!E26 -> 48400 | F8: =Buget_cerere!F26 -> 10000 | G8: =Buget_cerere!G26 -> 2100 | H8: =Buget_cerere!H26 -> 12100 | I8: =Buget_cerere!I26 -> 60500
A9: =Buget_cerere!J14 -> CHELTUIELI SUB FORMA DE RATE FORFETARE | B9: =Buget_cerere!K14 -> Cheltuieli indirecte conform art. 54 lit.a RDC 1060/2021 | C9: =Buget_cerere!C18+Buget_cerere!C21+Buget_cerere!C24 -> 94987.2 | D9: =Buget_cerere!D18+Buget_cerere!D21+Buget_cerere!D24 -> 19947.31 | E9: =Buget_cerere!E18+Buget_cerere!E21+Buget_cerere!E24 -> 114934.51 | F9: =Buget_cerere!F18+Buget_cerere!F21+Buget_cerere!F24 -> 65012.8 | G9: =Buget_cerere!G18+Buget_cerere!G21+Buget_cerere!G24 -> 13652.69 | H9: =Buget_cerere!H18+Buget_cerere!H21+Buget_cerere!H24 -> 78665.49 | I9: =Buget_cerere!I18+Buget_cerere!I21+Buget_cerere!I24 -> 193600
A11: TOTAL | C11: =SUM(C4:C10) -> 2039731.2 | D11: =SUM(D4:D10) -> 428343.55 | E11: =SUM(E4:E10) -> 2468074.8 | F11: =SUM(F4:F10) -> 75012.8 | G11: =SUM(G4:G10) -> 15752.69 | H11: =SUM(H4:H10) -> 90765.49 | I11: =SUM(I4:I10) -> 2558840.2
C12: =IF(C11=Buget_cerere!C28,"OK","ERROR") -> OK | D12: =IF(D11=Buget_cerere!D28,"OK","ERROR") -> OK | E12: =IF(E11=Buget_cerere!E28,"OK","ERROR") -> OK | F12: =IF(F11=Buget_cerere!F28,"OK","ERROR") -> OK | G12: =IF(G11=Buget_cerere!G28,"OK","ERROR") -> OK | H12: =IF(H11=Buget_cerere!H28,"OK","ERROR") -> OK | I12: =IF(I11=Buget_cerere!I28,"OK","ERROR") -> OK

Sheet Export SMIS A NU SE ANEXA!

Sheet Buget Sintetic
B1: Program: Programul Regiunea Centru (PR Centru)
B2: Prioritatea 2- O regiune digitală
B3: Obiectivul de politica 1- O Europă mai competitivă și mai inteligentă, prin promovarea unei transformări economice inovatoare și inteligente și a conectivității TIC regionale
B4: Fond: FEDR
B5: Obiectivul Specific 1.2. Valorificarea avantajelor digitalizării, în beneficiul cetățenilor, al companiilor, al organizațiilor de cercetare și al autorităților publice
B6: Acțiunea 2.1. Comunități digitale pentru o regiune inteligentă, Intervenția 2.1.1. Comunități digitale pentru o regiune inteligentă – soluții digitale
B7: Apel de proiecte:
B8: Cod SMIS:
A10: Nr. crt. | B10: CATEGORIE CHELTUIELI | C10: Tip de cheltuiala (directa/indirecta) | D10: Valoare eligibilă al proiectului, incl. TVA eligibil, din care: | H10: TVA, din care | K10: Valoare totală neeligibil al proiectului, incl. TVA neeligibil | L10: Valoare totală a proiectului
D11: Total | E11: Valoare eligibilă nerambursabilă din partea fondurilor (UE) | F11: Valoarea eligibilă nerambursabilă din bugetul național | G11: Valoare cofinanțare eligibilă beneficiar | H11: Total | I11: TVA eligibil | J11: TVA neeligibil
A12: 0 | B12: 1 | C12: 2 | D12: 3= 4+5+6 | E12: 4 | F12: 5 | G12: 6 | H12: 7=8+9 | I12: 8 | J12: 9 | K12: 10 | L12: 11=3+10
A13: 1 | B13: ='Export SMIS A NU SE ANEXA!'!H2 -> 0 | C13: ='Export SMIS A NU SE ANEXA!'!J2 -> 0 | D13: =E13+F13+G13 -> 0 | E13: ='Export SMIS A NU SE ANEXA!'!AK2 -> 0 | F13: ='Export SMIS A NU SE ANEXA!'!AN2 -> 0 | G13: ='Export SMIS A NU SE ANEXA!'!AE2 -> 0 | H13: =I13+J13 -> 0 | I13: ='Export SMIS A NU SE ANEXA!'!T2 -> 0 | J13: ='Export SMIS A NU SE ANEXA!'!Y2 -> 0 | K13: ='Export SMIS A NU SE ANEXA!'!Z2 -> 0 | L13: =D13+K13 -> 0 | M13: ='Export SMIS A NU SE ANEXA!'!G2 -> 0
A14: 2 | B14: ='Export SMIS A NU SE ANEXA!'!H3 -> 0 | C14: ='Export SMIS A NU SE ANEXA!'!J3 -> 0 | D14: =E14+F14+G14 -> 0 | E14: ='Export SMIS A NU SE ANEXA!'!AK3 -> 0 | F14: ='Export SMIS A NU SE ANEXA!'!AN3 -> 0 | G14: ='Export SMIS A NU SE ANEXA!'!AE3 -> 0 | H14: =I14+J14 -> 0 | I14: ='Export SMIS A NU SE ANEXA!'!T3 -> 0 | J14: ='Export SMIS A NU SE ANEXA!'!Y3 -> 0 | K14: ='Export SMIS A NU SE ANEXA!'!Z3 -> 0 | L14: =D14+K14 -> 0 | M14: ='Export SMIS A NU SE ANEXA!'!G3 -> 0
A15: 3 | B15: ='Export SMIS A NU SE ANEXA!'!H4 -> 0 | C15: ='Export SMIS A NU SE ANEXA!'!J4 -> 0 | D15: =E15+F15+G15 -> 0 | E15: ='Export SMIS A NU SE ANEXA!'!AK4 -> 0 | F15: ='Export SMIS A NU SE ANEXA!'!AN4 -> 0 | G15: ='Export SMIS A NU SE ANEXA!'!AE4 -> 0 | H15: =I15+J15 -> 0 | I15: ='Export SMIS A NU SE ANEXA!'!T4 -> 0 | J15: ='Export SMIS A NU SE ANEXA!'!Y4 -> 0 | K15: ='Export SMIS A NU SE ANEXA!'!Z4 -> 0 | L15: =D15+K15 -> 0 | M15: ='Export SMIS A NU SE ANEXA!'!G4 -> 0
A16: 4 | B16: ='Export SMIS A NU SE ANEXA!'!H5 -> 0 | C16: ='Export SMIS A NU SE ANEXA!'!J5 -> 0 | D16: =E16+F16+G16 -> 0 | E16: ='Export SMIS A NU SE ANEXA!'!AK5 -> 0 | F16: ='Export SMIS A NU SE ANEXA!'!AN5 -> 0 | G16: ='Export SMIS A NU SE ANEXA!'!AE5 -> 0 | H16: =I16+J16 -> 0 | I16: ='Export SMIS A NU SE ANEXA!'!T5 -> 0 | J16: ='Export SMIS A NU SE ANEXA!'!Y5 -> 0 | K16: ='Export SMIS A NU SE ANEXA!'!Z5 -> 0 | L16: =D16+K16 -> 0 | M16: ='Export SMIS A NU SE ANEXA!'!G5 -> 0
A17: 5 | B17: ='Export SMIS A NU SE ANEXA!'!H6 -> 0 | C17: ='Export SMIS A NU SE ANEXA!'!J6 -> 0 | D17: =E17+F17+G17 -> 0 | E17: ='Export SMIS A NU SE ANEXA!'!AK6 -> 0 | F17: ='Export SMIS A NU SE ANEXA!'!AN6 -> 0 | G17: ='Export SMIS A NU SE ANEXA!'!AE6 -> 0 | H17: =I17+J17 -> 0 | I17: ='Export SMIS A NU SE ANEXA!'!T6 -> 0 | J17: ='Export SMIS A NU SE ANEXA!'!Y6 -> 0 | K17: ='Export SMIS A NU SE ANEXA!'!Z6 -> 0 | L17: =D17+K17 -> 0 | M17: ='Export SMIS A NU SE ANEXA!'!G6 -> 0
A18: 6 | B18: ='Export SMIS A NU SE ANEXA!'!H7 -> 0 | C18: ='Export SMIS A NU SE ANEXA!'!J7 -> 0 | D18: =E18+F18+G18 -> 0 | E18: ='Export SMIS A NU SE ANEXA!'!AK7 -> 0 | F18: ='Export SMIS A NU SE ANEXA!'!AN7 -> 0 | G18: ='Export SMIS A NU SE ANEXA!'!AE7 -> 0 | H18: =I18+J18 -> 0 | I18: ='Export SMIS A NU SE ANEXA!'!T7 -> 0 | J18: ='Export SMIS A NU SE ANEXA!'!Y7 -> 0 | K18: ='Export SMIS A NU SE ANEXA!'!Z7 -> 0 | L18: =D18+K18 -> 0 | M18: ='Export SMIS A NU SE ANEXA!'!G7 -> 0
A19: 7 | B19: ='Export SMIS A NU SE ANEXA!'!H8 -> 0 | C19: ='Export SMIS A NU SE ANEXA!'!J8 -> 0 | D19: =E19+F19+G19 -> 0 | E19: ='Export SMIS A NU SE ANEXA!'!AK8 -> 0 | F19: ='Export SMIS A NU SE ANEXA!'!AN8 -> 0 | G19: ='Export SMIS A NU SE ANEXA!'!AE8 -> 0 | H19: =I19+J19 -> 0 | I19: ='Export SMIS A NU SE ANEXA!'!T8 -> 0 | J19: ='Export SMIS A NU SE ANEXA!'!Y8 -> 0 | K19: ='Export SMIS A NU SE ANEXA!'!Z8 -> 0 | L19: =D19+K19 -> 0 | M19: ='Export SMIS A NU SE ANEXA!'!G8 -> 0
A20: 8 | B20: ='Export SMIS A NU SE ANEXA!'!H9 -> 0 | C20: ='Export SMIS A NU SE ANEXA!'!J9 -> 0 | D20: =E20+F20+G20 -> 0 | E20: ='Export SMIS A NU SE ANEXA!'!AK9 -> 0 | F20: ='Export SMIS A NU SE ANEXA!'!AN9 -> 0 | G20: ='Export SMIS A NU SE ANEXA!'!AE9 -> 0 | H20: =I20+J20 -> 0 | I20: ='Export SMIS A NU SE ANEXA!'!T9 -> 0 | J20: ='Export SMIS A NU SE ANEXA!'!Y9 -> 0 | K20: ='Export SMIS A NU SE ANEXA!'!Z9 -> 0 | L20: =D20+K20 -> 0 | M20: ='Export SMIS A NU SE ANEXA!'!G9 -> 0
A21: 9 | B21: ='Export SMIS A NU SE ANEXA!'!H10 -> 0 | C21: ='Export SMIS A NU SE ANEXA!'!J10 -> 0 | D21: =E21+F21+G21 -> 0 | E21: ='Export SMIS A NU SE ANEXA!'!AK10 -> 0 | F21: ='Export SMIS A NU SE ANEXA!'!AN10 -> 0 | G21: ='Export SMIS A NU SE ANEXA!'!AE10 -> 0 | H21: =I21+J21 -> 0 | I21: ='Export SMIS A NU SE ANEXA!'!T10 -> 0 | J21: ='Export SMIS A NU SE ANEXA!'!Y10 -> 0 | K21: ='Export SMIS A NU SE ANEXA!'!Z10 -> 0 | L21: =D21+K21 -> 0 | M21: ='Export SMIS A NU SE ANEXA!'!G10 -> 0
A22: 10 | B22: ='Export SMIS A NU SE ANEXA!'!H11 -> 0 | C22: ='Export SMIS A NU SE ANEXA!'!J11 -> 0 | D22: =E22+F22+G22 -> 0 | E22: ='Export SMIS A NU SE ANEXA!'!AK11 -> 0 | F22: ='Export SMIS A NU SE ANEXA!'!AN11 -> 0 | G22: ='Export SMIS A NU SE ANEXA!'!AE11 -> 0 | H22: =I22+J22 -> 0 | I22: ='Export SMIS A NU SE ANEXA!'!T11 -> 0 | J22: ='Export SMIS A NU SE ANEXA!'!Y11 -> 0 | K22: ='Export SMIS A NU SE ANEXA!'!Z11 -> 0 | L22: =D22+K22 -> 0 | M22: ='Export SMIS A NU SE ANEXA!'!G11 -> 0
A23: 11 | B23: ='Export SMIS A NU SE ANEXA!'!H12 -> 0 | C23: ='Export SMIS A NU SE ANEXA!'!J12 -> 0 | D23: =E23+F23+G23 -> 0 | E23: ='Export SMIS A NU SE ANEXA!'!AK12 -> 0 | F23: ='Export SMIS A NU SE ANEXA!'!AN12 -> 0 | G23: ='Export SMIS A NU SE ANEXA!'!AE12 -> 0 | H23: =I23+J23 -> 0 | I23: ='Export SMIS A NU SE ANEXA!'!T12 -> 0 | J23: ='Export SMIS A NU SE ANEXA!'!Y12 -> 0 | K23: ='Export SMIS A NU SE ANEXA!'!Z12 -> 0 | L23: =D23+K23 -> 0 | M23: ='Export SMIS A NU SE ANEXA!'!G12 -> 0
A24: 12 | B24: ='Export SMIS A NU SE ANEXA!'!H13 -> 0 | C24: ='Export SMIS A NU SE ANEXA!'!J13 -> 0 | D24: =E24+F24+G24 -> 0 | E24: ='Export SMIS A NU SE ANEXA!'!AK13 -> 0 | F24: ='Export SMIS A NU SE ANEXA!'!AN13 -> 0 | G24: ='Export SMIS A NU SE ANEXA!'!AE13 -> 0 | H24: =I24+J24 -> 0 | I24: ='Export SMIS A NU SE ANEXA!'!T13 -> 0 | J24: ='Export SMIS A NU SE ANEXA!'!Y13 -> 0 | K24: ='Export SMIS A NU SE ANEXA!'!Z13 -> 0 | L24: =D24+K24 -> 0 | M24: ='Export SMIS A NU SE ANEXA!'!G13 -> 0
... A52: 40 | B52: ='Export SMIS A NU SE ANEXA!'!H41 -> 0 | C52: ='Export SMIS A NU SE ANEXA!'!J41 -> 0 | D52: =E52+F52+G52 -> 0 | E52: ='Export SMIS A NU SE ANEXA!'!AK41 -> 0 | F52: ='Export SMIS A NU SE ANEXA!'!AN41 -> 0 | G52: ='Export SMIS A NU SE ANEXA!'!AE41 -> 0 | H52: =I52+J52 -> 0 | I52: ='Export SMIS A NU SE ANEXA!'!T41 -> 0 | J52: ='Export SMIS A NU SE ANEXA!'!Y41 -> 0 | K52: ='Export SMIS A NU SE ANEXA!'!Z41 -> 0 | L52: =D52+K52 -> 0 | M52: ='Export SMIS A NU SE ANEXA!'!G41 -> 0
A53: TOTAL | D53: =SUM(D13:D52) -> 0 | E53: =SUM(E13:E52) -> 0 | F53: =SUM(F13:F52) -> 0 | G53: =SUM(G13:G52) -> 0 | H53: =SUM(H13:H52) -> 0 | I53: =SUM(I13:I52) -> 0 | J53: =SUM(J13:J52) -> 0 | K53: =SUM(K13:K52) -> 0 | L53: =SUM(L13:L52) -> 0
D54: =IF(D53=Buget_cerere!E28,"OK","ERROR") -> ERROR | E54: =IF(E53+F53=ROUND(Buget_cerere!C38,2),"OK","ERROR") -> ERROR | G54: =IF(G53=ROUND(Buget_cerere!C35-Buget_cerere!C37,2),"OK","ERROR") -> ERROR | H54: =IF(H53=Buget_cerere!D28+Buget_cerere!G28,"OK","ERROR") -> ERROR | I54: =IF(I53=Buget_cerere!D28,"OK","ERROR") -> ERROR | J54: =IF(J53=Buget_cerere!G28,"OK","ERROR") -> ERROR | K54: =IF(K53=Buget_cerere!H28,"OK","ERROR") -> ERROR | L54: =IF(L53=Buget_cerere!C32,"OK","ERROR") -> ERROR
B55: Foaie de lucru Buget Cerere | D55: =Buget_cerere!E28 -> 2468074.8 | E55: =Buget_cerere!C38 -> 2418713.2 | G55: =Buget_cerere!C36 -> 49361.5 | H55: =Buget_cerere!D28+Buget_cerere!G28 -> 444096.24 | I55: =Buget_cerere!D28 -> 428343.55 | J55: =Buget_cerere!G28 -> 15752.69 | K55: =Buget_cerere!H28 -> 90765.49 | L55: =Buget_cerere!I28 -> 2558840.2
B56: Verificare Corelare | D56: =D53-D55 -> -2468074.8 | E56: =E53+F53-E55 -> -2418713.2 | G56: =G53-G55 -> -49361.5 | H56: =H53-H55 -> -444096.24 | I56: =I53-I55 -> -428343.55 | J56: =J53-J55 -> -15752.69 | K56: =K53-K55 -> -90765.49 | L56: =L53-L55 -> -2558840.2

Sheet Foaie2
A1: CATEGORIE_NUME | B1: SUBCATEGORIE_NUME
A2: CHELTUIELI CU ACHIZIȚIA DE ACTIVE FIXE CORPORALE (ALTELE DECÂT TERENURI ȘI IMOBILE), OBIECTE DE INVENTAR, MATERII PRIME ȘI MATERIALE, INCLUSIV MATERIALE CONSUMABILE | B2: Cheltuieli cu achiziția de materii prime, materiale consumabile și alte produse similare necesare proiectului
A3: ALTE CHELTUIELI | B3: Alte cheltuieli
A4: ALTE CHELTUIELI | B4: Materiale de informare si promovare
A5: CHELTUIELI CU ACTIVE NECORPORALE | B5: 4.6 Active necorporale
A6: CHELTUIELI CU ACTIVE NECORPORALE | B6: Cheltuieli pentru achiziția de active necorporale din surse externe în condiții de concurență deplină pentru activități de inovare
A7: CHELTUIELI CU ACTIVE NECORPORALE | B7: Cheltuieli pentru achiziţia de active necorporale pentru cercetare industrială
A8: CHELTUIELI CU ACTIVE NECORPORALE | B8: Cheltuieli pentru achiziţia de active necorporale pentru dezvoltare experimentală
A9: CHELTUIELI SUB FORMA DE BAREME STANDARD PENTRU COSTURI UNITARE | B9: Cheltuieli sub forma de bareme standard pentru costuri unitare
A10: CHELTUIELI SUB FORMA DE BAREME STANDARD PENTRU COSTURI UNITARE | B10: Cost unitar programe de formare cu recunoaștere națională (inițiere/perfecționare/specializare)
A11: CHELTUIELI SUB FORMA DE BAREME STANDARD PENTRU COSTURI UNITARE | B11: Cost unitar programe de calificare nivel 2
A12: CHELTUIELI SUB FORMA DE BAREME STANDARD PENTRU COSTURI UNITARE | B12: Cost unitar programe de calificare nivel 3
... A195: TAXE | B195: Alte taxe
